BEGIN:VCALENDAR
VERSION:2.0
PRODID:-//Alliance Police Training - ECPv6.15.13.1//NONSGML v1.0//EN
CALSCALE:GREGORIAN
METHOD:PUBLISH
X-WR-CALNAME:Alliance Police Training
X-ORIGINAL-URL:https://alliancepolicetraining.com
X-WR-CALDESC:Events for Alliance Police Training
REFRESH-INTERVAL;VALUE=DURATION:PT1H
X-Robots-Tag:noindex
X-PUBLISHED-TTL:PT1H
BEGIN:VTIMEZONE
TZID:America/New_York
BEGIN:DAYLIGHT
TZOFFSETFROM:-0500
TZOFFSETTO:-0400
TZNAME:EDT
DTSTART:20200308T070000
END:DAYLIGHT
BEGIN:STANDARD
TZOFFSETFROM:-0400
TZOFFSETTO:-0500
TZNAME:EST
DTSTART:20201101T060000
END:STANDARD
BEGIN:DAYLIGHT
TZOFFSETFROM:-0500
TZOFFSETTO:-0400
TZNAME:EDT
DTSTART:20210314T070000
END:DAYLIGHT
BEGIN:STANDARD
TZOFFSETFROM:-0400
TZOFFSETTO:-0500
TZNAME:EST
DTSTART:20211107T060000
END:STANDARD
BEGIN:DAYLIGHT
TZOFFSETFROM:-0500
TZOFFSETTO:-0400
TZNAME:EDT
DTSTART:20220313T070000
END:DAYLIGHT
BEGIN:STANDARD
TZOFFSETFROM:-0400
TZOFFSETTO:-0500
TZNAME:EST
DTSTART:20221106T060000
END:STANDARD
END:VTIMEZONE
BEGIN:VEVENT
DTSTART;TZID=America/New_York:20211231T080000
DTEND;TZID=America/New_York:20211231T170000
DTSTAMP:20260421T161102
CREATED:20210326T122131Z
LAST-MODIFIED:20210326T122131Z
UID:5960-1640937600-1640970000@alliancepolicetraining.com
SUMMARY:Range Rental Fee $250.00
DESCRIPTION:
URL:https://alliancepolicetraining.com/event/range-rental-fee-250-00-3/
LOCATION:Alliance PD Range\, 12251 Rockhill Ave. NE\, Alliance\, OH\, United States
CATEGORIES:All Courses
ORGANIZER;CN="Alliance Police Department":MAILTO:weyerj@alliancepolice.com
END:VEVENT
BEGIN:VEVENT
DTSTART;TZID=America/New_York:20211231T080000
DTEND;TZID=America/New_York:20211231T170000
DTSTAMP:20260421T161102
CREATED:20210326T122354Z
LAST-MODIFIED:20210326T122354Z
UID:5963-1640937600-1640970000@alliancepolicetraining.com
SUMMARY:Range Fee $25.00
DESCRIPTION:
URL:https://alliancepolicetraining.com/event/range-fee-25-00/
LOCATION:Alliance PD Range\, 12251 Rockhill Ave. NE\, Alliance\, OH\, United States
CATEGORIES:All Courses
ORGANIZER;CN="Alliance Police Department":MAILTO:weyerj@alliancepolice.com
END:VEVENT
END:VCALENDAR