BEGIN:VCALENDAR
VERSION:2.0
PRODID:-//Alliance Police Training - ECPv6.15.13.1//NONSGML v1.0//EN
CALSCALE:GREGORIAN
METHOD:PUBLISH
X-ORIGINAL-URL:https://alliancepolicetraining.com
X-WR-CALDESC:Events for Alliance Police Training
REFRESH-INTERVAL;VALUE=DURATION:PT1H
X-Robots-Tag:noindex
X-PUBLISHED-TTL:PT1H
BEGIN:VTIMEZONE
TZID:America/New_York
BEGIN:DAYLIGHT
TZOFFSETFROM:-0500
TZOFFSETTO:-0400
TZNAME:EDT
DTSTART:20180311T070000
END:DAYLIGHT
BEGIN:STANDARD
TZOFFSETFROM:-0400
TZOFFSETTO:-0500
TZNAME:EST
DTSTART:20181104T060000
END:STANDARD
BEGIN:DAYLIGHT
TZOFFSETFROM:-0500
TZOFFSETTO:-0400
TZNAME:EDT
DTSTART:20190310T070000
END:DAYLIGHT
BEGIN:STANDARD
TZOFFSETFROM:-0400
TZOFFSETTO:-0500
TZNAME:EST
DTSTART:20191103T060000
END:STANDARD
BEGIN:DAYLIGHT
TZOFFSETFROM:-0500
TZOFFSETTO:-0400
TZNAME:EDT
DTSTART:20200308T070000
END:DAYLIGHT
BEGIN:STANDARD
TZOFFSETFROM:-0400
TZOFFSETTO:-0500
TZNAME:EST
DTSTART:20201101T060000
END:STANDARD
END:VTIMEZONE
BEGIN:VEVENT
DTSTART;VALUE=DATE:20191105
DTEND;VALUE=DATE:20191106
DTSTAMP:20260420T153246
CREATED:20190221T210028Z
LAST-MODIFIED:20190221T210028Z
UID:4994-1572912000-1572998399@alliancepolicetraining.com
SUMMARY:APD SRT Training Range Closed
DESCRIPTION:
URL:https://alliancepolicetraining.com/event/apd-srt-training-range-closed-5/
LOCATION:Alliance PD Range\, 12251 Rockhill Ave. NE\, Alliance\, OH\, United States
CATEGORIES:Closed Range
ATTACH;FMTTYPE=image/png:https://alliancepolicetraining.com/wp-content/uploads/2015/11/patch1.png
END:VEVENT
BEGIN:VEVENT
DTSTART;VALUE=DATE:20191031
DTEND;VALUE=DATE:20191101
DTSTAMP:20260420T153246
CREATED:20190221T205415Z
LAST-MODIFIED:20190221T205453Z
UID:4989-1572480000-1572566399@alliancepolicetraining.com
SUMMARY:FBI Training Closed Range
DESCRIPTION:
URL:https://alliancepolicetraining.com/event/fbi-training-closed-range-5/
LOCATION:Alliance PD Range\, 12251 Rockhill Ave. NE\, Alliance\, OH\, United States
CATEGORIES:Closed Range
END:VEVENT
BEGIN:VEVENT
DTSTART;VALUE=DATE:20191105
DTEND;VALUE=DATE:20191106
DTSTAMP:20260420T153246
CREATED:20190221T210028Z
LAST-MODIFIED:20190221T210028Z
UID:4994-1572912000-1572998399@alliancepolicetraining.com
SUMMARY:APD SRT Training Range Closed
DESCRIPTION:
URL:https://alliancepolicetraining.com/event/apd-srt-training-range-closed-5/
LOCATION:Alliance PD Range\, 12251 Rockhill Ave. NE\, Alliance\, OH\, United States
CATEGORIES:Closed Range
ATTACH;FMTTYPE=image/png:https://alliancepolicetraining.com/wp-content/uploads/2015/11/patch1.png
END:VEVENT
BEGIN:VEVENT
DTSTART;VALUE=DATE:20191212
DTEND;VALUE=DATE:20191213
DTSTAMP:20260420T153246
CREATED:20190221T210116Z
LAST-MODIFIED:20190221T210116Z
UID:4999-1576108800-1576195199@alliancepolicetraining.com
SUMMARY:FBI Training Range Closed
DESCRIPTION:
URL:https://alliancepolicetraining.com/event/fbi-training-range-closed-2/
LOCATION:Alliance PD Range\, 12251 Rockhill Ave. NE\, Alliance\, OH\, United States
CATEGORIES:Closed Range
END:VEVENT
BEGIN:VEVENT
DTSTART;VALUE=DATE:20191231
DTEND;VALUE=DATE:20200101
DTSTAMP:20260420T153246
CREATED:20190118T150036Z
LAST-MODIFIED:20190118T150036Z
UID:4864-1577750400-1577836799@alliancepolicetraining.com
SUMMARY:Daily Range Fee $25.00
DESCRIPTION:
URL:https://alliancepolicetraining.com/event/daily-range-fee-25-00/
LOCATION:Alliance PD Range\, 12251 Rockhill Ave. NE\, Alliance\, OH\, United States
CATEGORIES:All Courses
ATTACH;FMTTYPE=image/png:https://alliancepolicetraining.com/wp-content/uploads/2015/11/patch1.png
ORGANIZER;CN="Alliance Police Department":MAILTO:weyerj@alliancepolice.com
END:VEVENT
BEGIN:VEVENT
DTSTART;VALUE=DATE:20191231
DTEND;VALUE=DATE:20200101
DTSTAMP:20260420T153246
CREATED:20190118T150201Z
LAST-MODIFIED:20190118T150214Z
UID:4867-1577750400-1577836799@alliancepolicetraining.com
SUMMARY:Range Rental Fee $250.00
DESCRIPTION:
URL:https://alliancepolicetraining.com/event/range-rental-fee-250-00/
LOCATION:Alliance PD Range\, 12251 Rockhill Ave. NE\, Alliance\, OH\, United States
CATEGORIES:All Courses
ORGANIZER;CN="Alliance Police Department":MAILTO:weyerj@alliancepolice.com
END:VEVENT
END:VCALENDAR