BEGIN:VCALENDAR
VERSION:2.0
PRODID:-//Alliance Police Training - ECPv6.15.13.1//NONSGML v1.0//EN
CALSCALE:GREGORIAN
METHOD:PUBLISH
X-ORIGINAL-URL:https://alliancepolicetraining.com
X-WR-CALDESC:Events for Alliance Police Training
REFRESH-INTERVAL;VALUE=DURATION:PT1H
X-Robots-Tag:noindex
X-PUBLISHED-TTL:PT1H
BEGIN:VTIMEZONE
TZID:America/New_York
BEGIN:DAYLIGHT
TZOFFSETFROM:-0500
TZOFFSETTO:-0400
TZNAME:EDT
DTSTART:20180311T070000
END:DAYLIGHT
BEGIN:STANDARD
TZOFFSETFROM:-0400
TZOFFSETTO:-0500
TZNAME:EST
DTSTART:20181104T060000
END:STANDARD
BEGIN:DAYLIGHT
TZOFFSETFROM:-0500
TZOFFSETTO:-0400
TZNAME:EDT
DTSTART:20190310T070000
END:DAYLIGHT
BEGIN:STANDARD
TZOFFSETFROM:-0400
TZOFFSETTO:-0500
TZNAME:EST
DTSTART:20191103T060000
END:STANDARD
BEGIN:DAYLIGHT
TZOFFSETFROM:-0500
TZOFFSETTO:-0400
TZNAME:EDT
DTSTART:20200308T070000
END:DAYLIGHT
BEGIN:STANDARD
TZOFFSETFROM:-0400
TZOFFSETTO:-0500
TZNAME:EST
DTSTART:20201101T060000
END:STANDARD
END:VTIMEZONE
BEGIN:VEVENT
DTSTART;TZID=America/New_York:20190830T080000
DTEND;TZID=America/New_York:20190901T170000
DTSTAMP:20260420T204527
CREATED:20190627T190856Z
LAST-MODIFIED:20190627T190856Z
UID:5151-1567152000-1567357200@alliancepolicetraining.com
SUMMARY:APD Advanced Carbine/Handgun Shoothouse
DESCRIPTION:Instructed by the Alliance Police Training Staff \nLive fire shoot house course that includes a night of low-light to no-light shooting.  This is not a shooting program but a decision making or problem solving course. \n500 rds pistol \n500 rds carbine \n8 spots available  \n$500.00 \nTimes will vary based on class knowledge
URL:https://alliancepolicetraining.com/event/apd-advanced-carbine-handgun-shoothouse/
LOCATION:Alliance PD Range\, 12251 Rockhill Ave. NE\, Alliance\, OH\, United States
CATEGORIES:All Courses,APD Staff Instructed Courses
ATTACH;FMTTYPE=image/png:https://alliancepolicetraining.com/wp-content/uploads/2015/11/patch1.png
END:VEVENT
BEGIN:VEVENT
DTSTART;VALUE=DATE:20190903
DTEND;VALUE=DATE:20190904
DTSTAMP:20260420T204527
CREATED:20190221T185023Z
LAST-MODIFIED:20190221T185023Z
UID:4945-1567468800-1567555199@alliancepolicetraining.com
SUMMARY:APD SRT Training Closed Range
DESCRIPTION:
URL:https://alliancepolicetraining.com/event/apd-srt-training-closed-range-10/
LOCATION:Alliance PD Range\, 12251 Rockhill Ave. NE\, Alliance\, OH\, United States
CATEGORIES:Closed Range
ATTACH;FMTTYPE=image/png:https://alliancepolicetraining.com/wp-content/uploads/2015/11/patch1.png
END:VEVENT
BEGIN:VEVENT
DTSTART;TZID=America/New_York:20190907T190000
DTEND;TZID=America/New_York:20190909T233000
DTSTAMP:20260420T204527
CREATED:20190221T185344Z
LAST-MODIFIED:20190221T185457Z
UID:4948-1567882800-1568071800@alliancepolicetraining.com
SUMMARY:TNVC Night Fighter Armed Professional
DESCRIPTION:***07-08 September 2019\, Alliance\, Ohio – Alliance Police Department Training Facility*** \nDon’t have night vision\, but still want to train? No problem. We offer rental NVG’s\, Helmets\, Mounts\, and Lasers for an additional fee. If you decide that you want to purchase the gear you rented during the class\, your rental fee will go towards the purchase of the new product. \n  \n  \nNight Fighter: Armed Professional is a restricted class for active duty Military\, Law Enforcement\, Security Personnel\, and vetted civilians such as Night Fighter 101 Graduates (contact training@tnvc.com for vetting requirements). \nUnlike Night Fighter 101 and other “Level 1” Night Vision based courses\, Night Fighter: Armed Professional is designed to provide advanced instruction to professional end-users who have already mastered the fundamentals of low/no-light operations. This course focuses on building upon students’ already established skillsets in both individual and team settings in preparation for real world operations. Students will execute a variety of tactical tasks including team movement and communication\, movement to contact/OBJ\, stealth search to contact\, target discrimination/engagement\, vehicle work\, and CBRN integration\, as well as mission planning and coordination. \nSubjects Covered \nSafety Brief\nGear Discussion\nPhysiology of Night Vision\nZeroing Lasers\nSquare Range Shooting Drills\nReloads and Transitions\nMoving and Shooting\nImprovised Shooting Positions\nEquipment Failure Drills\nWhite Light Integration\nTeam Movement\nRoll Player Scenarios\nLive Fire CQB\nVisible Lasers\nPro Masks CBRN\nCommunication\nIFF Signaling\nVehicle Operation\nThermal Imagers \nPrerequisites \nIn accordance with ITAR Regulations\, only U.S. Citizens will be accepted to participate in TNVC courses. NO EXCEPTIONS. This class is restricted to current active duty U.S. Military\, Law Enforcement\, and Security Contractor personnel. Active Agency/Unit/Company affiliation credentials are required. This is a highly physical class where students are encouraged to be in good physical condition. \nAmmunition \n\n1\,000 rds Rifle\n300 rds Pistol\n\nGear \n\nServiceable Carbine or Rifle\n\nWeapon Light\nRed Dot (preferable Night Vision compatible)\nInfrared Laser (can be rented for additional fee)\nWeapon-Mounted IR Illuminator (recommended)\nSling\n\n\nServiceable Pistol\n\nNight Sights or MRDS (preferred)\nWeapon Light\n\n\nNight Vision Goggle (Gen3 preferred) Rental Gear Available\nBallistic Helmet with Night Vision Mount\nLevel 3 or 4 Rifle Plates and Appropriate Soft Armor\nPro Mask and 2 New Filters\nHand Held White Light\nBallistic Eye Protection\nEar Protection\nMaintenance/Cleaning Kit for Weapons\nMinimum of Five (5) Serviceable Rifle Magazines\nMinimum of Three (3) Serviceable Pistol Magazines\nPistol Holster and Magazine Pouches that will retain items during movement\n\nMust hold two (2) each Rifle and Pistol Magazines on Person\n\n\nSufficient Batteries for all your equipment\nIFAK or BOK on Person\nClothing suited to strenuous activity as well as being seasonally appropriate\nRain Gear / Cold Weather Gear (seasonal)\nAny other Agency / Unit-specific tactical gear used on normal operations / call-outs\nSnacks\, Energy Drinks\, etc.\n\n*This class requires a ballistic shoot house. If you are interested in hosting a class and your agency does not have a ballistic shoot house\, contact training@tnvc.com to make arrangements. We will also require a separate indoor/outdoor training structure to conduct non-live fire role player scenario drills.
URL:https://alliancepolicetraining.com/event/tnvc-night-fighter-armed-professional-2/
LOCATION:Alliance PD Range\, 12251 Rockhill Ave. NE\, Alliance\, OH\, United States
CATEGORIES:All Courses,Hosted Courses,Law Enforcement Only,LE/MIL/GOV Only
ATTACH;FMTTYPE=image/jpeg:https://alliancepolicetraining.com/wp-content/uploads/2018/01/Capture.jpg
ORGANIZER;CN="Tactical Night Vision Company (TNVC)":MAILTO:training@tnvc.com
END:VEVENT
BEGIN:VEVENT
DTSTART;VALUE=DATE:20190912
DTEND;VALUE=DATE:20190913
DTSTAMP:20260420T204527
CREATED:20190221T185944Z
LAST-MODIFIED:20190221T185944Z
UID:4952-1568246400-1568332799@alliancepolicetraining.com
SUMMARY:Twinsburg PD Closed Range
DESCRIPTION:
URL:https://alliancepolicetraining.com/event/twinsburg-pd-closed-range/
LOCATION:Alliance PD Range\, 12251 Rockhill Ave. NE\, Alliance\, OH\, United States
CATEGORIES:Closed Range
END:VEVENT
BEGIN:VEVENT
DTSTART;TZID=America/New_York:20190913T090000
DTEND;TZID=America/New_York:20190915T170000
DTSTAMP:20260420T204527
CREATED:20190221T185725Z
LAST-MODIFIED:20190221T185839Z
UID:4950-1568365200-1568566800@alliancepolicetraining.com
SUMMARY:Forge Tactical SWAT Sniper Overwatch
DESCRIPTION:Sniper Overwatch for SWAT Operations is an advanced 24 hour three-day course designed to enhance sniper confidence supporting SWAT Operations through training conducted in a realistic urban environment. After vetting and review of sniper skills on the range and shoothouse\, training progresses to full mission profile exercises conducted in an actual urban setting. Live-fire sniper support will be integrated with entry team activity. Skills enhanced in this course include the conduct of observation\, sniper-initiated assault\, and spontaneous precision response for typical SWAT missions which include but are not limited to; \nHigh risk warrant service \nBarricaded suspect \nHostage Rescue \nActive Shooter \nThis is an advanced course. The sniper is held to the standard of 100% shot accountability. Failure to demonstrate or maintain standards will result in the sniper being allowed to continue training\, but will not be allowed to participate in live-fire scenarios. \nSniper Overwatch for SWAT Operations including IR and Thermal Image Intensification is a 26 hour two-day course. It has the same POI but with additional night evolutions utilizing Clip-on Night Vision Devices. \nEquipment list \n\n.308 Sniper weapon system and optic capable of 1 MOA or better (preferred). No DMR rifles.\n120 rounds of duty or HPBT ammunition. No armor piercing.  \nAll sniper gear\nAll assaulter weapons and PPE included plate carriers and ballistic helmets. Sniper students will serve on entry team when not performing sniper role. All students will rotate through these roles during live-fire scenarios.   Loaner M4 carbines and pistols are available if you wish to avoid travel with a large number of weapons.\nConfirmed dope from 200 to 25 yards
URL:https://alliancepolicetraining.com/event/forge-tactical-swat-sniper-overwatch-5/
LOCATION:Alliance PD Range\, 12251 Rockhill Ave. NE\, Alliance\, OH\, United States
CATEGORIES:All Courses,Hosted Courses,Law Enforcement Only,LE/MIL/GOV Only
ATTACH;FMTTYPE=image/png:https://alliancepolicetraining.com/wp-content/uploads/2017/04/Forge-logo.png
END:VEVENT
BEGIN:VEVENT
DTSTART;VALUE=DATE:20190916
DTEND;VALUE=DATE:20190919
DTSTAMP:20260420T204527
CREATED:20190221T190124Z
LAST-MODIFIED:20190221T190124Z
UID:4955-1568592000-1568851199@alliancepolicetraining.com
SUMMARY:Toledo PD CQB Closed Range
DESCRIPTION:
URL:https://alliancepolicetraining.com/event/toledo-pd-cqb-closed-range/
LOCATION:Alliance PD Range\, 12251 Rockhill Ave. NE\, Alliance\, OH\, United States
CATEGORIES:Closed Range
END:VEVENT
BEGIN:VEVENT
DTSTART;VALUE=DATE:20190903
DTEND;VALUE=DATE:20190904
DTSTAMP:20260420T204527
CREATED:20190221T185023Z
LAST-MODIFIED:20190221T185023Z
UID:4945-1567468800-1567555199@alliancepolicetraining.com
SUMMARY:APD SRT Training Closed Range
DESCRIPTION:
URL:https://alliancepolicetraining.com/event/apd-srt-training-closed-range-10/
LOCATION:Alliance PD Range\, 12251 Rockhill Ave. NE\, Alliance\, OH\, United States
CATEGORIES:Closed Range
ATTACH;FMTTYPE=image/png:https://alliancepolicetraining.com/wp-content/uploads/2015/11/patch1.png
END:VEVENT
BEGIN:VEVENT
DTSTART;VALUE=DATE:20190912
DTEND;VALUE=DATE:20190913
DTSTAMP:20260420T204527
CREATED:20190221T185944Z
LAST-MODIFIED:20190221T185944Z
UID:4952-1568246400-1568332799@alliancepolicetraining.com
SUMMARY:Twinsburg PD Closed Range
DESCRIPTION:
URL:https://alliancepolicetraining.com/event/twinsburg-pd-closed-range/
LOCATION:Alliance PD Range\, 12251 Rockhill Ave. NE\, Alliance\, OH\, United States
CATEGORIES:Closed Range
END:VEVENT
BEGIN:VEVENT
DTSTART;TZID=America/New_York:20190920T160000
DTEND;TZID=America/New_York:20190922T233000
DTSTAMP:20260420T204527
CREATED:20190221T190514Z
LAST-MODIFIED:20190221T190514Z
UID:4957-1568995200-1569195000@alliancepolicetraining.com
SUMMARY:Sentinel Concepts Low Light Critical Carbine Employment
DESCRIPTION:Course Fee:$450 \nRange Fee: $25/Day (Payable to range at check-in prior to class) \n  \nThis course is designed to introduce/enhance students to low light techniques with the carbine for both weapon mounted and handheld emergency use techniques. Students will be able to focus on these critic low light skills and will receive ample amount of practical application in a low light environment. It is highly recommended you shoot this course with your home/personal defense/Duty carbine if law enforcement. \n  \nTHIS COURSE WILL THOROUGHLY COVER \n\nSafety brief & Medical plan\nProper gear selection and placement\nStance\nAccuracy Drills\, recoil control techniques\nPositional shooting\nLoading techniques\nHow and why of speed/retention/emergency loading\nAccuracy and Timed drills performance shooting\nUse of cover (range dependant)\nMovement when to shoot and how\nMultiple target tracking\nMovement drills\nMalfunction clearance\nand more…\n\nREQUIRED EQUIPMENT \n\nA functional and practical carbine or battle rifle chambered in 5.56×45\, 5.45×39\, 300 Blackout\, 7.62×39\, 7.62×51.\nIf available\, spare carbine is also an excellent idea.\nA sling for the rifle.\nHearing Protection\, electronic is preferred.\nIFAK and/or Tourniquet.\nWrap around style eye protection.\nA minimum of 1000 rounds of rifle ammunition.\nPLEASE ARRIVE TO CLASS WITH MAGAZINES ALREADY LOADED.\nA cleaning kit and tools that are compatible with the weapon system(s)\nEach student should have a minimum of 5 working magazines for the rifle\,\nHandheld flashlight and or weapons mounted light.\n\nIn advance of class you must complete the WAIVER either electronically or print and submit at checkin on day of class. \nSIGN WAIVER HERE\n  \nCOURSE ENROLLMENT POLICY \n\nSentinel Concepts has a strict NO VIDEO policy. Questions? Ask Steve directly.\nRefunds issued for cancelled classes ONLY; no exceptions.\nCourses close to enrollment 20 days prior to start date.\nShould the class still be listed and you are interested in attending please email sentinelconcepts@gmail.com to confirm ticket availability and purchase.
URL:https://alliancepolicetraining.com/event/sentinel-concepts-low-light-critical-carbine-employment/
LOCATION:Alliance PD Range\, 12251 Rockhill Ave. NE\, Alliance\, OH\, United States
CATEGORIES:All Courses,Hosted Courses
ATTACH;FMTTYPE=image/png:https://alliancepolicetraining.com/wp-content/uploads/2015/10/Sentinel-Logo.png
ORGANIZER;CN="Sentinel Concepts":MAILTO:sentinelconcepts@gmail.com
END:VEVENT
BEGIN:VEVENT
DTSTART;TZID=America/New_York:20190922T090000
DTEND;TZID=America/New_York:20190922T090000
DTSTAMP:20260420T204527
CREATED:20190221T203747Z
LAST-MODIFIED:20190221T203920Z
UID:4979-1569142800-1569142800@alliancepolicetraining.com
SUMMARY:Sentinel Concepts Practical Shotgun
DESCRIPTION:Course Fee: $175 \nRange Fee:  $25 (Payable to range at check-in prior to class) \n  \nAn entry-level course where students are familiarized with their shotguns. This class is geared toward those with training outside the basic classes from novice to the intermediate shooter\, looking to tune up some skills. Even at this early level\, we expect students to have an understanding of various methods of reloading\, weapon manipulation and most importantly muzzle awareness and safety. \n  \nTHIS CLASS WILL THOROUGHLY COVER \n\nSafety brief & Medical plan\nEffective accessories\nEffective shooting stance\nProper weapon grip\nRecoil control\nSight alignment\nSight picture using iron sights and electronic optics\nProper patterning and confirmation of them\nUse of the sling\nEmergency reloads\nAmmo management\nMalfunctions of the shotgun\nDifferent shooting positions\nShooting multiple targets\nMovement drills\nand more…\n\n  \nREQUIRED EQUIPMENT \n\nA functional and practical shotgun chambered in 12 or 20 gauge.\nHearing Protection\, electronic is preferred.\nWrap around style eye protection.\nIFAK and/or Tourniquet\nIf available\, a spare weapon system is also an excellent idea.\nA minimum of 350 Rounds Birdshot\, 50 rounds Buckshot.\nA cleaning kit and tools that are compatible with the weapon system(s)\nHandheld flashlight and or weapons mounted light.\n\nIn advance of class you must complete the WAIVER either electronically or print and submit at checkin on day of class. \nSIGN WAIVER HERE\n  \nCOURSE ENROLLMENT POLICY \n\nSentinel Concepts has a strict NO VIDEO policy. Questions? Ask Steve directly.\nRefunds issued for cancelled classes ONLY; no exceptions.\nCourses close to enrollment 20 days prior to start date.\nShould the class still be listed and you are interested in attending please email sentinelconcepts@gmail.com to confirm ticket availability and purchase.\n\n\n+ Google Calendar+ iCal Export
URL:https://alliancepolicetraining.com/event/sentinel-concepts-practical-shotgun-3/
LOCATION:Alliance PD Range\, 12251 Rockhill Ave. NE\, Alliance\, OH\, United States
CATEGORIES:All Courses,Hosted Courses
ATTACH;FMTTYPE=image/png:https://alliancepolicetraining.com/wp-content/uploads/2015/10/Sentinel-Logo.png
ORGANIZER;CN="Sentinel Concepts":MAILTO:sentinelconcepts@gmail.com
END:VEVENT
BEGIN:VEVENT
DTSTART;VALUE=DATE:20190926
DTEND;VALUE=DATE:20190927
DTSTAMP:20260420T204527
CREATED:20190221T190746Z
LAST-MODIFIED:20190221T190746Z
UID:4959-1569456000-1569542399@alliancepolicetraining.com
SUMMARY:FBI Training Closed Range
DESCRIPTION:
URL:https://alliancepolicetraining.com/event/fbi-training-closed-range-4/
LOCATION:Alliance PD Range\, 12251 Rockhill Ave. NE\, Alliance\, OH\, United States
CATEGORIES:Closed Range
END:VEVENT
BEGIN:VEVENT
DTSTART;TZID=America/New_York:20190927T090000
DTEND;TZID=America/New_York:20190930T170000
DTSTAMP:20260420T204527
CREATED:20190221T191009Z
LAST-MODIFIED:20190221T191109Z
UID:4961-1569574800-1569862800@alliancepolicetraining.com
SUMMARY:Forge Tactical Small Team CQB
DESCRIPTION:Small Team CQB Shoothouse \nThe Forge Tactical Small Team CQB Course is a 32 hour session focused on developing the fundamental techniques required for successful team fighting inside of structures.  This course is built around the fundamental building block of CQB\, the two-man team.  Topics covered in this course include tactical judgment\, priority of life\, approach\, door\, hallway\, room processing\, and CQB shapes procedures; and the techniques that enable them. Fundamental techniques are trained and evaluated in depth with an emphasis on their application in the rapidly moving CQB environment.  A low light component is included where range conditions permit.  This is not a beginner’s course\, so please come ready to work with a zero’d rifle.      \nCourse hours:\nTD1: 0900-1700\nTD2: 1200-2200\nTD3: 1000-1800\nTD4: 0900-1700\nPrerequisites: US Citizen or ITAR approved person\, and graduate of reputable handgun and carbine operator courses. \nEquipment List: \n\nCommon Sense\nCarbine with 5 magazines (Carbine should be zero’d when you arrive)\nCarbine magazine pouches\nHandgun and 3 magazines\nTactical holster\nHandheld and weapon mounted lights\nBallistic vest (Level IV or III ICW plates) and ballistic helmet (limited rentals are available)\nIFAK and TQ\n400 rounds carbine ammunition\n200 rounds handgun ammunition\nElectronic hearing protection which fit under your helmet\nClear eye protection\n2 green chemlights or PID light\nWater and snack food\nWeather appropriate clothing\nPen and notebook (you will be taking notes)
URL:https://alliancepolicetraining.com/event/forge-tactical-small-team-cqb-5/
LOCATION:Alliance PD Range\, 12251 Rockhill Ave. NE\, Alliance\, OH\, United States
CATEGORIES:All Courses,Hosted Courses
ATTACH;FMTTYPE=image/png:https://alliancepolicetraining.com/wp-content/uploads/2017/04/Forge-logo.png
END:VEVENT
BEGIN:VEVENT
DTSTART;TZID=America/New_York:20190928T073000
DTEND;TZID=America/New_York:20190929T170000
DTSTAMP:20260420T204527
CREATED:20190221T191456Z
LAST-MODIFIED:20190221T191644Z
UID:4963-1569655800-1569776400@alliancepolicetraining.com
SUMMARY:Practically Tactical Defensive Elements Two Day Handgun Class
DESCRIPTION:Time: 7:45am till 5pm  \nRange: Alliance Police Training \nAmmo: 800 Handgun Rounds (code PRACTAC5 saves 5% on ammo at FenixAmmo.Com) \nRange Fee: $25 Per Day  \n  \nTHE CLASS WILL COVER: \nA Comprehensive Safety Plan and Medical Brief \nDuring this two-day foundational class\, students will be given the context and a detailed breakdown on: \nGrip \nHow To Grip The Firearm and The Science Behind It \nThe Role Grip Plays In Recoil Management \nHow Proper Body Mechanics Affect Recoil \nSights \nWhat Are Aligned Sights \nHow To Shoot Sights Or A Red Dot \nApplication of Sights or Red Dots \nTrigger Control \nPress \nReset \nGetting Intimate With The Trigger \nA Ground Up Approach to Building The Foundation of A Defensive Drawstroke: \n            Master Grip \n            Retention \n            Presentation \n            Consistency \nDiscussion of Fundamentals Of Fighting With A Gun: \nWhat determines how fast we can shoot? \nRound accountability \nGear Setup For Success: \n            Gun \n            Belt \n            Holster \nShooting From Retention \nReloads: \n     How and Why \nHandgun Malfunctions \nUnderstanding Defensive Shooting Is Not On A Square Range: \n            Carry Positions \n            Ready Positions \n            Getting Online \n            Flow Drills \n Understanding Shooting Positions: \n            Standing \n            Squatting \n            Kneeling \n            Urban Prone \n Understanding Cover and Concealment \nOne Handed Shooting \n  \n  \nSeveral Times During this Two Day Class\, we will be shooting the following qual and recording times/performance: \nPracTac Qual: \n6”x6” Box \n7 Yards \nShoot 5 \nReload \nShoot 5 \nVarious Other Quals and drills will be shot during the Class. \n  \nIF you concealed carry\, we advise using that gear in class! \nREQUIRED EQUIPMENT: \nA reliable handgun\, Your Carry/Duty Firearm Recommended If Applicable \n3 Magazines\, More The Better. \nPLEASE ARRIVE TO CLASS WITH MAGAZINES ALREADY LOADED. \nQuality Holster \nHearing Protection (electronic is recommended) \nWrap around style eye protection \nLunch – LUNCH IS BRIEF \nAppropriate clothing for all potential weather conditions \n  \nRecommended Equipment: \nMagazine Pouch(s) \nIFAK & Tourniquet \nWater/Snacks \nNotebook and Pen \nPortable Chairs \nPopup Tent \nCooler \nGun Cleaning Supplies \nSpare handgun with Magazines (if applicable) \n  \nCLASS ENROLLMENT POLICY \nPictures/Video/Media – Refer To Waiver \nRefunds issued only if notified more than 30 days in advance. \nClass Spot Can Be Moved One Time To Another Class with more than 14 day’s notice.
URL:https://alliancepolicetraining.com/event/practically-tactical-defensive-elements-two-day-handgun-class/
LOCATION:Alliance PD Range\, 12251 Rockhill Ave. NE\, Alliance\, OH\, United States
CATEGORIES:All Courses,Hosted Courses
ATTACH;FMTTYPE=image/jpeg:https://alliancepolicetraining.com/wp-content/uploads/2016/12/15609083_10155694194394546_118320023_o.jpg
END:VEVENT
END:VCALENDAR