BEGIN:VCALENDAR
VERSION:2.0
PRODID:-//Alliance Police Training - ECPv6.15.13.1//NONSGML v1.0//EN
CALSCALE:GREGORIAN
METHOD:PUBLISH
X-ORIGINAL-URL:https://alliancepolicetraining.com
X-WR-CALDESC:Events for Alliance Police Training
REFRESH-INTERVAL;VALUE=DURATION:PT1H
X-Robots-Tag:noindex
X-PUBLISHED-TTL:PT1H
BEGIN:VTIMEZONE
TZID:America/New_York
BEGIN:DAYLIGHT
TZOFFSETFROM:-0500
TZOFFSETTO:-0400
TZNAME:EDT
DTSTART:20180311T070000
END:DAYLIGHT
BEGIN:STANDARD
TZOFFSETFROM:-0400
TZOFFSETTO:-0500
TZNAME:EST
DTSTART:20181104T060000
END:STANDARD
BEGIN:DAYLIGHT
TZOFFSETFROM:-0500
TZOFFSETTO:-0400
TZNAME:EDT
DTSTART:20190310T070000
END:DAYLIGHT
BEGIN:STANDARD
TZOFFSETFROM:-0400
TZOFFSETTO:-0500
TZNAME:EST
DTSTART:20191103T060000
END:STANDARD
BEGIN:DAYLIGHT
TZOFFSETFROM:-0500
TZOFFSETTO:-0400
TZNAME:EDT
DTSTART:20200308T070000
END:DAYLIGHT
BEGIN:STANDARD
TZOFFSETFROM:-0400
TZOFFSETTO:-0500
TZNAME:EST
DTSTART:20201101T060000
END:STANDARD
END:VTIMEZONE
BEGIN:VEVENT
DTSTART;TZID=America/New_York:20190802T080000
DTEND;TZID=America/New_York:20190804T170000
DTSTAMP:20260420T223933
CREATED:20190322T173646Z
LAST-MODIFIED:20190322T173646Z
UID:5015-1564732800-1564938000@alliancepolicetraining.com
SUMMARY:APD Carbine/Handgun Shoothouse
DESCRIPTION:Instructed by the Alliance Police Training Staff \nLive fire shoot house course that includes a night of low-light to no-light shooting.  This is not a shooting program but a decision making or problem solving course. \n500 rds pistol \n500 rds carbine \n 
URL:https://alliancepolicetraining.com/event/apd-carbine-handgun-shoothouse/
LOCATION:Alliance PD Range\, 12251 Rockhill Ave. NE\, Alliance\, OH\, United States
CATEGORIES:All Courses,APD Staff Instructed Courses
ATTACH;FMTTYPE=image/png:https://alliancepolicetraining.com/wp-content/uploads/2015/11/patch1.png
ORGANIZER;CN="Alliance Police Department":MAILTO:weyerj@alliancepolice.com
END:VEVENT
BEGIN:VEVENT
DTSTART;TZID=America/New_York:20190805T073000
DTEND;TZID=America/New_York:20190808T153000
DTSTAMP:20260420T223933
CREATED:20190221T182535Z
LAST-MODIFIED:20190221T182707Z
UID:4929-1564990200-1565278200@alliancepolicetraining.com
SUMMARY:APD In Service Training CLOSED RANGE
DESCRIPTION:CLOSED RANGE
URL:https://alliancepolicetraining.com/event/apd-in-service-training-closed-range-2/
LOCATION:Alliance PD Range\, 12251 Rockhill Ave. NE\, Alliance\, OH\, United States
CATEGORIES:Closed Range
ATTACH;FMTTYPE=image/png:https://alliancepolicetraining.com/wp-content/uploads/2015/11/patch1.png
ORGANIZER;CN="Alliance Police Department":MAILTO:weyerj@alliancepolice.com
END:VEVENT
BEGIN:VEVENT
DTSTART;VALUE=DATE:20190806
DTEND;VALUE=DATE:20190807
DTSTAMP:20260420T223933
CREATED:20190221T183446Z
LAST-MODIFIED:20190221T183446Z
UID:4936-1565049600-1565135999@alliancepolicetraining.com
SUMMARY:APD SRT Training Closed Range
DESCRIPTION:
URL:https://alliancepolicetraining.com/event/apd-srt-training-closed-range-9/
LOCATION:Alliance PD Range\, 12251 Rockhill Ave. NE\, Alliance\, OH\, United States
CATEGORIES:Closed Range
END:VEVENT
BEGIN:VEVENT
DTSTART;TZID=America/New_York:20190810T080000
DTEND;TZID=America/New_York:20190811T170000
DTSTAMP:20260420T223933
CREATED:20190221T183001Z
LAST-MODIFIED:20190221T183219Z
UID:4931-1565424000-1565542800@alliancepolicetraining.com
SUMMARY:IWI Level II Tavor Operator Course
DESCRIPTION:$500.00\n0800HRS – 1700HRS \nDETAILS:\nThis course is designed to build upon the fundamental skills of shooting the Tavor SAR and X95 rifle systems gained from the Level I Operator Course and enhance the user’s ability to employ the system. \nAfter reviewing marksmanship and the manual of arms\, the shooter will be instructed on additional techniques required for a multitude of situations. Your instruction will be conducted by members of the law enforcement and special operations community. \n* This course will require physical activity\, to include running and rapid assumption of positions.  \nPlease disclose any medical conditions which may preclude your participation from certain events. \nCore topics that will be covered include: \n\nConfirmation of zero\nReview of basic manipulations\nTransitions on the move\nShooting on the move\nShooting from behind cover\nMovement into positions\nStress drills\nTimed drills\nQualification\nLong range engagements
URL:https://alliancepolicetraining.com/event/iwi-level-ii-tavor-operator-course/
LOCATION:Alliance PD Range\, 12251 Rockhill Ave. NE\, Alliance\, OH\, United States
CATEGORIES:All Courses,Hosted Courses
ATTACH;FMTTYPE=image/png:https://alliancepolicetraining.com/wp-content/uploads/2017/02/IWI.png
ORGANIZER;CN="IWI US%2C Inc":MAILTO:Info@IWI.US
END:VEVENT
BEGIN:VEVENT
DTSTART;VALUE=DATE:20190812
DTEND;VALUE=DATE:20190813
DTSTAMP:20260420T223933
CREATED:20190221T183336Z
LAST-MODIFIED:20190221T183336Z
UID:4933-1565568000-1565654399@alliancepolicetraining.com
SUMMARY:Akron PD Closed Range
DESCRIPTION:
URL:https://alliancepolicetraining.com/event/akron-pd-closed-range-4/
LOCATION:Alliance PD Range\, 12251 Rockhill Ave. NE\, Alliance\, OH\, United States
CATEGORIES:Closed Range
END:VEVENT
BEGIN:VEVENT
DTSTART;VALUE=DATE:20190812
DTEND;VALUE=DATE:20190813
DTSTAMP:20260420T223933
CREATED:20190221T183336Z
LAST-MODIFIED:20190221T183336Z
UID:4933-1565568000-1565654399@alliancepolicetraining.com
SUMMARY:Akron PD Closed Range
DESCRIPTION:
URL:https://alliancepolicetraining.com/event/akron-pd-closed-range-4/
LOCATION:Alliance PD Range\, 12251 Rockhill Ave. NE\, Alliance\, OH\, United States
CATEGORIES:Closed Range
END:VEVENT
BEGIN:VEVENT
DTSTART;TZID=America/New_York:20190817T090000
DTEND;TZID=America/New_York:20190818T180000
DTSTAMP:20260420T223933
CREATED:20190221T183951Z
LAST-MODIFIED:20190221T184241Z
UID:4939-1566032400-1566151200@alliancepolicetraining.com
SUMMARY:SENTINEL CONCEPTS SHOOTING ON THE MOVE HANDGUN-CARBINE
DESCRIPTION:Course Fee: $450 \nRange Fee:  $25/Day (Payable to range at check-in prior to class) \n  \nThis two day intensive class is task focused on developing the concepts and skills required for shooting while moving in various directions while understanding and utilizing angles to clear lanes of fire with a handgun and carbine . Students should have high proficiency level of weapons handling and manipulations before attending this class. \n\nTHE CLASS WILL THOROUGHLY COVER \n \n\nSafety brief\nMedical plan\nAccuracy Drills\, recoil control techniques\nLoading techniques\nMalfunctions\nHow and why of speed/retention/emergency loading\nAccuracy and Timed drills\nShooting from retention\nWeapon Hand / alternate hand Shooting\nMovement when to shoot and how\nMultiple target tracking\nLow light (when and where applicable)\n\n  \nREQUIRED EQUIPMENT\n \n\nAmmunition: 600 rounds minimum PER HANDGUN/CARBINE\nIFAK and/or Tourniquet is REQUIRED\nHearing Protection (electronic is preferred)\nWrap around style eye protection\nCleaning kit and tools that are compatible with the weapon system(s)- Outdoor appropriate clothing for changing weather conditions\nSnacks/Food/Water\nNotebook and pen\nA functional and practical handgun chambered in 380\,9mm\, .40 cal\, or .45 ACP.\nA functional carbine chambered 5.56\, 7.62×39\, 300blk\, 762×51\, 5.45×39- 3  magazines minimum (Students with single stack pistols should have twice that.)\nPLEASE ARRIVE TO CLASS WITH MAGAZINES ALREADY LOADED\nQuality holster\nMagazine pouches (or pockets)\nSturdy belt (or duty gear)\n\nIn advance of class you must complete the WAIVER either electronically or print and submit at checkin on day of class. \nSIGN WAIVER HERE\n \n\nCOURSE ENROLLMENT POLICY \n\nSentinel Concepts has a strict NO VIDEO policy. Questions? Ask Steve directly.\nRefunds issued for cancelled classes ONLY; no exceptions.\nCourses close to enrollment 20 days prior to start date.\nShould the class still be listed and you are interested in attending please email sentinelconcepts@gmail.com to confirm ticket availability and purchase.
URL:https://alliancepolicetraining.com/event/sentinel-concepts-shooting-on-the-move-handgun-carbine/
LOCATION:Alliance PD Range\, 12251 Rockhill Ave. NE\, Alliance\, OH\, United States
CATEGORIES:All Courses,Hosted Courses
ATTACH;FMTTYPE=image/png:https://alliancepolicetraining.com/wp-content/uploads/2015/10/Sentinel-Logo.png
ORGANIZER;CN="Sentinel Concepts":MAILTO:sentinelconcepts@gmail.com
END:VEVENT
BEGIN:VEVENT
DTSTART;TZID=America/New_York:20190819T080000
DTEND;TZID=America/New_York:20190821T170000
DTSTAMP:20260420T223933
CREATED:20190221T184656Z
LAST-MODIFIED:20190221T184908Z
UID:4943-1566201600-1566406800@alliancepolicetraining.com
SUMMARY:Black Cloud Ops Practical Team Leader Training
DESCRIPTION:Team Leaders are expected to make sound and timely decisions often in chaotic\, dynamic\, and rapidly changing environments.  Leaders at all levels must be empowered to make decisions.  Decentralized command is a key component to success!  The course objective will be to provide Tactical Team leaders with realistic training and leadership methods that can be applied immediately upon their return. \nThis class will put the Team Leader in scenario-based missions and have them function through the entire process of planning\, execution and an after-action review (AAR).  Students will also be expected to discuss and possibly debrief past scenarios from your Department that had good and/or bad outcomes. \nPlease be ready to work hard during these three days and improve yourself as a leader. \nEquipment List: \nAll normal tactical gear and uniform \nLong gun and sidearm with 200 rds. rifle\, 50 rds. pistol \nSimmuntion or UTM NLTA and protective gear if available(optional) \nInclement weather gear \nHearing and Eye pro \nEach Student will be required to pay a $75.00 range fee on Day one to Alliance pd Range \nCall or email for registration inform \nPractical Team Leader Training.
URL:https://alliancepolicetraining.com/event/black-cloud-ops-practical-team-leader-training/
LOCATION:Alliance PD Range\, 12251 Rockhill Ave. NE\, Alliance\, OH\, United States
CATEGORIES:All Courses,Law Enforcement Only,LE/MIL/GOV Only
ATTACH;FMTTYPE=image/png:https://alliancepolicetraining.com/wp-content/uploads/2017/01/Black-Cloud-Ops.png
ORGANIZER;CN="Black Cloud Ops":MAILTO:TOD2@blackcloudoperations.com
END:VEVENT
BEGIN:VEVENT
DTSTART;VALUE=DATE:20190806
DTEND;VALUE=DATE:20190807
DTSTAMP:20260420T223933
CREATED:20190221T183446Z
LAST-MODIFIED:20190221T183446Z
UID:4936-1565049600-1565135999@alliancepolicetraining.com
SUMMARY:APD SRT Training Closed Range
DESCRIPTION:
URL:https://alliancepolicetraining.com/event/apd-srt-training-closed-range-9/
LOCATION:Alliance PD Range\, 12251 Rockhill Ave. NE\, Alliance\, OH\, United States
CATEGORIES:Closed Range
END:VEVENT
BEGIN:VEVENT
DTSTART;VALUE=DATE:20190830
DTEND;VALUE=DATE:20190831
DTSTAMP:20260420T223933
CREATED:20190221T184347Z
LAST-MODIFIED:20190221T184347Z
UID:4941-1567123200-1567209599@alliancepolicetraining.com
SUMMARY:FBI Training Range Closed
DESCRIPTION:
URL:https://alliancepolicetraining.com/event/fbi-training-range-closed/
LOCATION:Alliance PD Range\, 12251 Rockhill Ave. NE\, Alliance\, OH\, United States
CATEGORIES:Closed Range
END:VEVENT
BEGIN:VEVENT
DTSTART;TZID=America/New_York:20190830T080000
DTEND;TZID=America/New_York:20190901T170000
DTSTAMP:20260420T223933
CREATED:20190627T190856Z
LAST-MODIFIED:20190627T190856Z
UID:5151-1567152000-1567357200@alliancepolicetraining.com
SUMMARY:APD Advanced Carbine/Handgun Shoothouse
DESCRIPTION:Instructed by the Alliance Police Training Staff \nLive fire shoot house course that includes a night of low-light to no-light shooting.  This is not a shooting program but a decision making or problem solving course. \n500 rds pistol \n500 rds carbine \n8 spots available  \n$500.00 \nTimes will vary based on class knowledge
URL:https://alliancepolicetraining.com/event/apd-advanced-carbine-handgun-shoothouse/
LOCATION:Alliance PD Range\, 12251 Rockhill Ave. NE\, Alliance\, OH\, United States
CATEGORIES:All Courses,APD Staff Instructed Courses
ATTACH;FMTTYPE=image/png:https://alliancepolicetraining.com/wp-content/uploads/2015/11/patch1.png
END:VEVENT
END:VCALENDAR