BEGIN:VCALENDAR
VERSION:2.0
PRODID:-//Alliance Police Training - ECPv6.15.13.1//NONSGML v1.0//EN
CALSCALE:GREGORIAN
METHOD:PUBLISH
X-ORIGINAL-URL:https://alliancepolicetraining.com
X-WR-CALDESC:Events for Alliance Police Training
REFRESH-INTERVAL;VALUE=DURATION:PT1H
X-Robots-Tag:noindex
X-PUBLISHED-TTL:PT1H
BEGIN:VTIMEZONE
TZID:America/New_York
BEGIN:DAYLIGHT
TZOFFSETFROM:-0500
TZOFFSETTO:-0400
TZNAME:EDT
DTSTART:20180311T070000
END:DAYLIGHT
BEGIN:STANDARD
TZOFFSETFROM:-0400
TZOFFSETTO:-0500
TZNAME:EST
DTSTART:20181104T060000
END:STANDARD
BEGIN:DAYLIGHT
TZOFFSETFROM:-0500
TZOFFSETTO:-0400
TZNAME:EDT
DTSTART:20190310T070000
END:DAYLIGHT
BEGIN:STANDARD
TZOFFSETFROM:-0400
TZOFFSETTO:-0500
TZNAME:EST
DTSTART:20191103T060000
END:STANDARD
BEGIN:DAYLIGHT
TZOFFSETFROM:-0500
TZOFFSETTO:-0400
TZNAME:EDT
DTSTART:20200308T070000
END:DAYLIGHT
BEGIN:STANDARD
TZOFFSETFROM:-0400
TZOFFSETTO:-0500
TZNAME:EST
DTSTART:20201101T060000
END:STANDARD
END:VTIMEZONE
BEGIN:VEVENT
DTSTART;TZID=America/New_York:20190810T080000
DTEND;TZID=America/New_York:20190811T170000
DTSTAMP:20260421T122143
CREATED:20190221T183001Z
LAST-MODIFIED:20190221T183219Z
UID:4931-1565424000-1565542800@alliancepolicetraining.com
SUMMARY:IWI Level II Tavor Operator Course
DESCRIPTION:$500.00\n0800HRS – 1700HRS \nDETAILS:\nThis course is designed to build upon the fundamental skills of shooting the Tavor SAR and X95 rifle systems gained from the Level I Operator Course and enhance the user’s ability to employ the system. \nAfter reviewing marksmanship and the manual of arms\, the shooter will be instructed on additional techniques required for a multitude of situations. Your instruction will be conducted by members of the law enforcement and special operations community. \n* This course will require physical activity\, to include running and rapid assumption of positions.  \nPlease disclose any medical conditions which may preclude your participation from certain events. \nCore topics that will be covered include: \n\nConfirmation of zero\nReview of basic manipulations\nTransitions on the move\nShooting on the move\nShooting from behind cover\nMovement into positions\nStress drills\nTimed drills\nQualification\nLong range engagements
URL:https://alliancepolicetraining.com/event/iwi-level-ii-tavor-operator-course/
LOCATION:Alliance PD Range\, 12251 Rockhill Ave. NE\, Alliance\, OH\, United States
CATEGORIES:All Courses,Hosted Courses
ATTACH;FMTTYPE=image/png:https://alliancepolicetraining.com/wp-content/uploads/2017/02/IWI.png
ORGANIZER;CN="IWI US%2C Inc":MAILTO:Info@IWI.US
END:VEVENT
BEGIN:VEVENT
DTSTART;TZID=America/New_York:20190817T090000
DTEND;TZID=America/New_York:20190818T180000
DTSTAMP:20260421T122143
CREATED:20190221T183951Z
LAST-MODIFIED:20190221T184241Z
UID:4939-1566032400-1566151200@alliancepolicetraining.com
SUMMARY:SENTINEL CONCEPTS SHOOTING ON THE MOVE HANDGUN-CARBINE
DESCRIPTION:Course Fee: $450 \nRange Fee:  $25/Day (Payable to range at check-in prior to class) \n  \nThis two day intensive class is task focused on developing the concepts and skills required for shooting while moving in various directions while understanding and utilizing angles to clear lanes of fire with a handgun and carbine . Students should have high proficiency level of weapons handling and manipulations before attending this class. \n\nTHE CLASS WILL THOROUGHLY COVER \n \n\nSafety brief\nMedical plan\nAccuracy Drills\, recoil control techniques\nLoading techniques\nMalfunctions\nHow and why of speed/retention/emergency loading\nAccuracy and Timed drills\nShooting from retention\nWeapon Hand / alternate hand Shooting\nMovement when to shoot and how\nMultiple target tracking\nLow light (when and where applicable)\n\n  \nREQUIRED EQUIPMENT\n \n\nAmmunition: 600 rounds minimum PER HANDGUN/CARBINE\nIFAK and/or Tourniquet is REQUIRED\nHearing Protection (electronic is preferred)\nWrap around style eye protection\nCleaning kit and tools that are compatible with the weapon system(s)- Outdoor appropriate clothing for changing weather conditions\nSnacks/Food/Water\nNotebook and pen\nA functional and practical handgun chambered in 380\,9mm\, .40 cal\, or .45 ACP.\nA functional carbine chambered 5.56\, 7.62×39\, 300blk\, 762×51\, 5.45×39- 3  magazines minimum (Students with single stack pistols should have twice that.)\nPLEASE ARRIVE TO CLASS WITH MAGAZINES ALREADY LOADED\nQuality holster\nMagazine pouches (or pockets)\nSturdy belt (or duty gear)\n\nIn advance of class you must complete the WAIVER either electronically or print and submit at checkin on day of class. \nSIGN WAIVER HERE\n \n\nCOURSE ENROLLMENT POLICY \n\nSentinel Concepts has a strict NO VIDEO policy. Questions? Ask Steve directly.\nRefunds issued for cancelled classes ONLY; no exceptions.\nCourses close to enrollment 20 days prior to start date.\nShould the class still be listed and you are interested in attending please email sentinelconcepts@gmail.com to confirm ticket availability and purchase.
URL:https://alliancepolicetraining.com/event/sentinel-concepts-shooting-on-the-move-handgun-carbine/
LOCATION:Alliance PD Range\, 12251 Rockhill Ave. NE\, Alliance\, OH\, United States
CATEGORIES:All Courses,Hosted Courses
ATTACH;FMTTYPE=image/png:https://alliancepolicetraining.com/wp-content/uploads/2015/10/Sentinel-Logo.png
ORGANIZER;CN="Sentinel Concepts":MAILTO:sentinelconcepts@gmail.com
END:VEVENT
END:VCALENDAR