BEGIN:VCALENDAR
VERSION:2.0
PRODID:-//Alliance Police Training - ECPv6.15.13.1//NONSGML v1.0//EN
CALSCALE:GREGORIAN
METHOD:PUBLISH
X-ORIGINAL-URL:https://alliancepolicetraining.com
X-WR-CALDESC:Events for Alliance Police Training
REFRESH-INTERVAL;VALUE=DURATION:PT1H
X-Robots-Tag:noindex
X-PUBLISHED-TTL:PT1H
BEGIN:VTIMEZONE
TZID:America/New_York
BEGIN:DAYLIGHT
TZOFFSETFROM:-0500
TZOFFSETTO:-0400
TZNAME:EDT
DTSTART:20190310T070000
END:DAYLIGHT
BEGIN:STANDARD
TZOFFSETFROM:-0400
TZOFFSETTO:-0500
TZNAME:EST
DTSTART:20191103T060000
END:STANDARD
BEGIN:DAYLIGHT
TZOFFSETFROM:-0500
TZOFFSETTO:-0400
TZNAME:EDT
DTSTART:20200308T070000
END:DAYLIGHT
BEGIN:STANDARD
TZOFFSETFROM:-0400
TZOFFSETTO:-0500
TZNAME:EST
DTSTART:20201101T060000
END:STANDARD
BEGIN:DAYLIGHT
TZOFFSETFROM:-0500
TZOFFSETTO:-0400
TZNAME:EDT
DTSTART:20210314T070000
END:DAYLIGHT
BEGIN:STANDARD
TZOFFSETFROM:-0400
TZOFFSETTO:-0500
TZNAME:EST
DTSTART:20211107T060000
END:STANDARD
END:VTIMEZONE
BEGIN:VEVENT
DTSTART;TZID=America/New_York:20200411T080000
DTEND;TZID=America/New_York:20200411T160000
DTSTAMP:20260423T093146
CREATED:20200217T204801Z
LAST-MODIFIED:20200217T204822Z
UID:5553-1586592000-1586620800@alliancepolicetraining.com
SUMMARY:APD Handgun Sustainment (Easter Weekend)
DESCRIPTION:APD Staff Instructed – Joe Weyer \n50 yard range class – All applicable PPE for the square range \n500 rds minimum \nMust have at least 10 people min to run this class \n$100 (Includes range fees) \n8am-4pm
URL:https://alliancepolicetraining.com/event/apd-handgun-sustainment-2/
LOCATION:Alliance PD Range\, 12251 Rockhill Ave. NE\, Alliance\, OH\, United States
CATEGORIES:All Courses,APD Staff Instructed Courses
ORGANIZER;CN="Alliance Police Department":MAILTO:weyerj@alliancepolice.com
END:VEVENT
BEGIN:VEVENT
DTSTART;TZID=America/New_York:20200412T080000
DTEND;TZID=America/New_York:20200412T160000
DTSTAMP:20260423T093146
CREATED:20200217T205023Z
LAST-MODIFIED:20200217T205023Z
UID:5557-1586678400-1586707200@alliancepolicetraining.com
SUMMARY:APD Carbine Sustainment (Easter Day)
DESCRIPTION:APD Staff Instructed – Joe Weyer \n300 yard range class – All applicable PPE for the long range \n500 rds minimum \nMust have at least 10 people min to run this class \n$100 (Includes range fees) \n8am-4pm
URL:https://alliancepolicetraining.com/event/apd-carbine-sustainment-easter-day/
LOCATION:Alliance PD Range\, 12251 Rockhill Ave. NE\, Alliance\, OH\, United States
CATEGORIES:All Courses,APD Staff Instructed Courses
ATTACH;FMTTYPE=image/png:https://alliancepolicetraining.com/wp-content/uploads/2015/11/patch1.png
ORGANIZER;CN="Alliance Police Department":MAILTO:weyerj@alliancepolice.com
END:VEVENT
BEGIN:VEVENT
DTSTART;TZID=America/New_York:20200417T080000
DTEND;TZID=America/New_York:20200419T170000
DTSTAMP:20260423T093146
CREATED:20200217T200131Z
LAST-MODIFIED:20200217T200131Z
UID:5536-1587110400-1587315600@alliancepolicetraining.com
SUMMARY:APD Carbine/Handgun Shoothouse
DESCRIPTION:Instructed by the Alliance Police Training Staff \nLive fire shoot house course that includes a night of low-light to no-light shooting.  This is not a shooting program but a decision making or problem solving course. \n500 rds pistol \n500 rds carbine \n 
URL:https://alliancepolicetraining.com/event/apd-carbine-handgun-shoothouse-2/
LOCATION:Alliance PD Range\, 12251 Rockhill Ave. NE\, Alliance\, OH\, United States
CATEGORIES:All Courses,APD Staff Instructed Courses
ATTACH;FMTTYPE=image/png:https://alliancepolicetraining.com/wp-content/uploads/2015/11/patch1.png
ORGANIZER;CN="Alliance Police Department":MAILTO:weyerj@alliancepolice.com
END:VEVENT
END:VCALENDAR