BEGIN:VCALENDAR
VERSION:2.0
PRODID:-//Alliance Police Training - ECPv6.15.13.1//NONSGML v1.0//EN
CALSCALE:GREGORIAN
METHOD:PUBLISH
X-ORIGINAL-URL:https://alliancepolicetraining.com
X-WR-CALDESC:Events for Alliance Police Training
REFRESH-INTERVAL;VALUE=DURATION:PT1H
X-Robots-Tag:noindex
X-PUBLISHED-TTL:PT1H
BEGIN:VTIMEZONE
TZID:America/New_York
BEGIN:DAYLIGHT
TZOFFSETFROM:-0500
TZOFFSETTO:-0400
TZNAME:EDT
DTSTART:20180311T070000
END:DAYLIGHT
BEGIN:STANDARD
TZOFFSETFROM:-0400
TZOFFSETTO:-0500
TZNAME:EST
DTSTART:20181104T060000
END:STANDARD
BEGIN:DAYLIGHT
TZOFFSETFROM:-0500
TZOFFSETTO:-0400
TZNAME:EDT
DTSTART:20190310T070000
END:DAYLIGHT
BEGIN:STANDARD
TZOFFSETFROM:-0400
TZOFFSETTO:-0500
TZNAME:EST
DTSTART:20191103T060000
END:STANDARD
BEGIN:DAYLIGHT
TZOFFSETFROM:-0500
TZOFFSETTO:-0400
TZNAME:EDT
DTSTART:20200308T070000
END:DAYLIGHT
BEGIN:STANDARD
TZOFFSETFROM:-0400
TZOFFSETTO:-0500
TZNAME:EST
DTSTART:20201101T060000
END:STANDARD
END:VTIMEZONE
BEGIN:VEVENT
DTSTART;TZID=America/New_York:20190727T160000
DTEND;TZID=America/New_York:20190728T233000
DTSTAMP:20260423T213936
CREATED:20190221T182025Z
LAST-MODIFIED:20190221T182025Z
UID:4927-1564243200-1564356600@alliancepolicetraining.com
SUMMARY:TNVC Night Fighter 101
DESCRIPTION:***27-28 July 2019\, Alliance\, Ohio – Alliance Police Department Training Facility*** \n$25 per day ($50 total) Range Fee will be collected at the beginning of the class by the range staff. \nDon’t have night vision\, but still want to train? No problem. We offer rental NVG’s\, Helmets\, Mounts\, and Lasers for an additional fee. If you decide that you want to purchase the gear you rented during the class\, your rental fee will go towards the purchase of the new product. \nNight Fighter 101 is designed to arm students with a solid understanding of the fundamentals of night vision operation and use. Beginning with gear choice and setup\, the class provides students the tools for learning to safely / effectively move\, shoot\, and communicate in low-light/no-light environments. Students will participate in a variety of movement\, stalking\, and live-fire exercises aimed at producing a core competency with night vision goggles\, lasers\, and white light. \nSubjects Covered \nSafety Brief\nGear Discussion\nPhysiology of NV\nFundamentals of Night Ops\nWhite Light drills\nZeroing Lasers\nSquare Range Shooting Drills\nReloads in the Dark\nTransition Techniques\nMoving and Shooting\nOutdoor Movement with NV\nImprovised Shooting Positions\nEquipment Failure Drills\nWhite Light/Night Vision Integration\nScenario Drills \nPrerequisites\nIn accordance with ITAR Regulations\, only U.S. Citizens will be accepted to participate in TNVC courses. NO EXCEPTIONS. Proof of citizenship is required. This is a physical class and students are encouraged to be in good physical condition. Students must have basic tactical weapons handling skills prior to the class. As such\, students are required to produce proof of successful completion of tactical carbine and pistol classes\, or previous military or law enforcement training prior to this course (no\, your 4-hour CCW class does not count). To ensure your prior training classes meet the requirement\, please email training@tnvc.com \nAmmunition \n\n1\,000 rds Rifle\n200 rds Pistol\n\nGear \n\nServiceable Carbine or Rifle\n\nWeapon Light\nRed Dot (preferably Night Vision Compatible)\nInfrared Laser (Can be Rented for Additional Fee)\nWeapon-Mounted IR Illuminator (recommended)\nSling\n\n\nServiceable Pistol\n\nNight Sights or MRDS (preferred)\nWeapon Light\n\n\nNight Vision Goggle (Gen3 preferred) (Can be Rented for Additional Fee)\nHelmet or Head Harness for NVG (Can be Rented for Additional Fee)\nNVG Helmet Mount (Can be Rented for Additional Fee)\nHand Held White Light\nBallistic Eye Protection\nEar Protection\nMaintenance/Cleaning Kit for Weapons\nMinimum of Five (5) Serviceable Rifle Magazines\nMinimum of three (3) Serviceable Pistol Magazines\nPistol Holster and Magazine Pouches that will Retain Items During Movement\n\nMust Hold two (2) each Rifle and Pistol Magazines on Person\n\n\nSufficient Batteries for all your equipment\nIFAK or BOK on your Person\nClothing suited to strenuous activity as well as being seasonally appropriate\nRain gear / cold weather gear (seasonal)\nSnacks\, Energy Drinks\, etc.\n\n  \nRENTAL GEAR AVAILABLE \nWe have a limited fleet of rental gear available for students who do not already own night vision.  For an additional fee\, you can rent a package that includes a TNVC TNV/PVS-14 Gen3 Night Vision Goggle\, Steiner DBAL IR Laser\, Ops-Core Bump Helmet\, and Wilcox L4 G11 Mount.  Rental Gear is first-come/first-serve. \nExport of Night Vision Equipment or related accessories (such as manuals) is strictly regulated by the US Department of State in accordance with the guidelines of the International Traffic in Arms Regulations (ITAR). It is a major crime to ship or carry US manufactured night vision devices outside the borders of the United States\, punishable by fines and prison sentences. Ignorance of these regulations will not hold up in court. By purchasing night vision equipment from TNVC\, you attest that you will not attempt to export or carry this night vision equipment outside the borders of the United States. Also\, it illegal to allow a non-US Citizen to look through US Gen3 Night Vision Devices\, even on US soil. Again\, this is a crime punishable by fines and prison sentences.
URL:https://alliancepolicetraining.com/event/tnvc-night-fighter-101-2/
LOCATION:Alliance PD Range\, 12251 Rockhill Ave. NE\, Alliance\, OH\, United States
CATEGORIES:All Courses,APD Staff Instructed Courses,Booked Range Time,Hosted Courses,Law Enforcement Only
ATTACH;FMTTYPE=image/jpeg:https://alliancepolicetraining.com/wp-content/uploads/2016/06/NightFighterLVL1-1.jpg
ORGANIZER;CN="Tactical Night Vision Company (TNVC)":MAILTO:training@tnvc.com
END:VEVENT
BEGIN:VEVENT
DTSTART;TZID=America/New_York:20190728T080000
DTEND;TZID=America/New_York:20190728T170000
DTSTAMP:20260423T213936
CREATED:20190404T204911Z
LAST-MODIFIED:20190725T233444Z
UID:5056-1564300800-1564333200@alliancepolicetraining.com
SUMMARY:Patrol Carbine Sustainment
DESCRIPTION:APD Staff Instructed – Bill Clark & Joe Weyer \n300 yard range class – All applicable PPE for the long range \n500 rds minimum \nMust have at least 10 people min to run this class \n$100 (Includes range fees) \n8am-5pm
URL:https://alliancepolicetraining.com/event/patrol-carbine-sustainment-2/
LOCATION:Alliance PD Range\, 12251 Rockhill Ave. NE\, Alliance\, OH\, United States
CATEGORIES:All Courses,APD Staff Instructed Courses
ORGANIZER;CN="Alliance Police Department":MAILTO:weyerj@alliancepolice.com
END:VEVENT
END:VCALENDAR